BEGIN:VCALENDAR
VERSION:2.0
PRODID:-//WorkSmart Safety Solutions - ECPv6.15.20//NONSGML v1.0//EN
CALSCALE:GREGORIAN
METHOD:PUBLISH
X-WR-CALNAME:WorkSmart Safety Solutions
X-ORIGINAL-URL:https://worksmartsafety.com
X-WR-CALDESC:Events for WorkSmart Safety Solutions
REFRESH-INTERVAL;VALUE=DURATION:PT1H
X-Robots-Tag:noindex
X-PUBLISHED-TTL:PT1H
BEGIN:VTIMEZONE
TZID:UTC
BEGIN:STANDARD
TZOFFSETFROM:+0000
TZOFFSETTO:+0000
TZNAME:UTC
DTSTART:20220101T000000
END:STANDARD
END:VTIMEZONE
BEGIN:VEVENT
DTSTART;VALUE=DATE:20231002
DTEND;VALUE=DATE:20231004
DTSTAMP:20260424T123053
CREATED:20230907T144756Z
LAST-MODIFIED:20230907T144756Z
UID:1840-1696204800-1696377599@worksmartsafety.com
SUMMARY:Standard First Aid – CPR\, AED - 2 day course
DESCRIPTION:
URL:https://worksmartsafety.com/event/standard-first-aid-cpr-aed-2-day-course/
END:VEVENT
END:VCALENDAR