BEGIN:VCALENDAR
VERSION:2.0
PRODID:-//WorkSmart Safety Solutions - ECPv6.15.20//NONSGML v1.0//EN
CALSCALE:GREGORIAN
METHOD:PUBLISH
X-ORIGINAL-URL:https://worksmartsafety.com
X-WR-CALDESC:Events for WorkSmart Safety Solutions
REFRESH-INTERVAL;VALUE=DURATION:PT1H
X-Robots-Tag:noindex
X-PUBLISHED-TTL:PT1H
BEGIN:VTIMEZONE
TZID:UTC
BEGIN:STANDARD
TZOFFSETFROM:+0000
TZOFFSETTO:+0000
TZNAME:UTC
DTSTART:20220101T000000
END:STANDARD
END:VTIMEZONE
BEGIN:VEVENT
DTSTART;TZID=UTC:20230919T083000
DTEND;TZID=UTC:20230919T163000
DTSTAMP:20260424T111144
CREATED:20230907T143845Z
LAST-MODIFIED:20230907T143845Z
UID:1834-1695112200-1695141000@worksmartsafety.com
SUMMARY:Working at Heights - Full Course
DESCRIPTION:
URL:https://worksmartsafety.com/event/working-at-heights-full-course/
END:VEVENT
BEGIN:VEVENT
DTSTART;TZID=UTC:20230922T083000
DTEND;TZID=UTC:20230922T123000
DTSTAMP:20260424T111144
CREATED:20230907T143952Z
LAST-MODIFIED:20230907T143952Z
UID:1836-1695371400-1695385800@worksmartsafety.com
SUMMARY:Working at Heights - Refresher
DESCRIPTION:
URL:https://worksmartsafety.com/event/working-at-heights-refresher/
END:VEVENT
BEGIN:VEVENT
DTSTART;TZID=UTC:20230929T083000
DTEND;TZID=UTC:20230929T163000
DTSTAMP:20260424T111144
CREATED:20230907T144108Z
LAST-MODIFIED:20230907T144108Z
UID:1838-1695976200-1696005000@worksmartsafety.com
SUMMARY:JHSC Refresher
DESCRIPTION:
URL:https://worksmartsafety.com/event/jhsc-refresher/
END:VEVENT
END:VCALENDAR