BEGIN:VCALENDAR
VERSION:2.0
PRODID:-//WorkSmart Safety Solutions - ECPv6.15.20//NONSGML v1.0//EN
CALSCALE:GREGORIAN
METHOD:PUBLISH
X-WR-CALNAME:WorkSmart Safety Solutions
X-ORIGINAL-URL:https://worksmartsafety.com
X-WR-CALDESC:Events for WorkSmart Safety Solutions
REFRESH-INTERVAL;VALUE=DURATION:PT1H
X-Robots-Tag:noindex
X-PUBLISHED-TTL:PT1H
BEGIN:VTIMEZONE
TZID:UTC
BEGIN:STANDARD
TZOFFSETFROM:+0000
TZOFFSETTO:+0000
TZNAME:UTC
DTSTART:20210101T000000
END:STANDARD
END:VTIMEZONE
BEGIN:VEVENT
DTSTART;TZID=UTC:20221018T084500
DTEND;TZID=UTC:20221018T163000
DTSTAMP:20260424T015027
CREATED:20221004T202632Z
LAST-MODIFIED:20221004T202632Z
UID:1790-1666082700-1666110600@worksmartsafety.com
SUMMARY:Working at Heights Construction
DESCRIPTION:
URL:https://worksmartsafety.com/event/working-at-heights-construction-37/
END:VEVENT
BEGIN:VEVENT
DTSTART;TZID=UTC:20221024T083000
DTEND;TZID=UTC:20221024T123000
DTSTAMP:20260424T015027
CREATED:20221014T154647Z
LAST-MODIFIED:20221014T154647Z
UID:1794-1666600200-1666614600@worksmartsafety.com
SUMMARY:Working at Heights Recertification training
DESCRIPTION:
URL:https://worksmartsafety.com/event/working-at-heights-recertification-training-4/
END:VEVENT
BEGIN:VEVENT
DTSTART;TZID=UTC:20221024T123000
DTEND;TZID=UTC:20221024T163000
DTSTAMP:20260424T015027
CREATED:20221014T160704Z
LAST-MODIFIED:20221014T160704Z
UID:1799-1666614600-1666629000@worksmartsafety.com
SUMMARY:Elevated Work Platform Training
DESCRIPTION:
URL:https://worksmartsafety.com/event/elevated-work-platform-training-8/
END:VEVENT
BEGIN:VEVENT
DTSTART;TZID=UTC:20221025T083000
DTEND;TZID=UTC:20221025T123000
DTSTAMP:20260424T015027
CREATED:20221014T160555Z
LAST-MODIFIED:20221014T160555Z
UID:1796-1666686600-1666701000@worksmartsafety.com
SUMMARY:Working at Heights Recertification training
DESCRIPTION:
URL:https://worksmartsafety.com/event/working-at-heights-recertification-training-5/
END:VEVENT
END:VCALENDAR