BEGIN:VCALENDAR
VERSION:2.0
PRODID:-//WorkSmart Safety Solutions - ECPv6.15.20//NONSGML v1.0//EN
CALSCALE:GREGORIAN
METHOD:PUBLISH
X-WR-CALNAME:WorkSmart Safety Solutions
X-ORIGINAL-URL:https://worksmartsafety.com
X-WR-CALDESC:Events for WorkSmart Safety Solutions
REFRESH-INTERVAL;VALUE=DURATION:PT1H
X-Robots-Tag:noindex
X-PUBLISHED-TTL:PT1H
BEGIN:VTIMEZONE
TZID:UTC
BEGIN:STANDARD
TZOFFSETFROM:+0000
TZOFFSETTO:+0000
TZNAME:UTC
DTSTART:20210101T000000
END:STANDARD
END:VTIMEZONE
BEGIN:VEVENT
DTSTART;TZID=UTC:20220912T083000
DTEND;TZID=UTC:20220912T123000
DTSTAMP:20260424T001706
CREATED:20220907T144912Z
LAST-MODIFIED:20220907T144912Z
UID:1781-1662971400-1662985800@worksmartsafety.com
SUMMARY:Working At Heights-Recertification Training
DESCRIPTION:
URL:https://worksmartsafety.com/event/working-at-heights-recertification-training-3/
LOCATION:WorkSmart Safety & HR Solutions\, 2996 Deziel Dr.\, Windsor\, Ontario\, N8W 5H8\, Canada
END:VEVENT
BEGIN:VEVENT
DTSTART;TZID=UTC:20220913T083000
DTEND;TZID=UTC:20220913T133000
DTSTAMP:20260424T001706
CREATED:20220907T155210Z
LAST-MODIFIED:20220907T155210Z
UID:1783-1663057800-1663075800@worksmartsafety.com
SUMMARY:Elevated Work Platform training
DESCRIPTION:
URL:https://worksmartsafety.com/event/elevated-work-platform-training-7/
LOCATION:WorkSmart Safety & HR Solutions\, 2996 Deziel Dr.\, Windsor\, Ontario\, N8W 5H8\, Canada
END:VEVENT
BEGIN:VEVENT
DTSTART;TZID=UTC:20220920T084500
DTEND;TZID=UTC:20220920T163000
DTSTAMP:20260424T001706
CREATED:20220919T131558Z
LAST-MODIFIED:20220919T131558Z
UID:1787-1663663500-1663691400@worksmartsafety.com
SUMMARY:Working at Heights Construction
DESCRIPTION:
URL:https://worksmartsafety.com/event/working-at-heights-construction-36/
END:VEVENT
END:VCALENDAR