BEGIN:VCALENDAR
VERSION:2.0
PRODID:-//WorkSmart Safety Solutions - ECPv6.15.20//NONSGML v1.0//EN
CALSCALE:GREGORIAN
METHOD:PUBLISH
X-ORIGINAL-URL:https://worksmartsafety.com
X-WR-CALDESC:Events for WorkSmart Safety Solutions
REFRESH-INTERVAL;VALUE=DURATION:PT1H
X-Robots-Tag:noindex
X-PUBLISHED-TTL:PT1H
BEGIN:VTIMEZONE
TZID:UTC
BEGIN:STANDARD
TZOFFSETFROM:+0000
TZOFFSETTO:+0000
TZNAME:UTC
DTSTART:20190101T000000
END:STANDARD
END:VTIMEZONE
BEGIN:VEVENT
DTSTART;TZID=UTC:20201102T084500
DTEND;TZID=UTC:20201102T170000
DTSTAMP:20260424T053253
CREATED:20201029T160400Z
LAST-MODIFIED:20201030T141207Z
UID:1753-1604306700-1604336400@worksmartsafety.com
SUMMARY:Working At Heights Construction
DESCRIPTION:
URL:https://worksmartsafety.com/event/working-at-heights-construction-34/
END:VEVENT
BEGIN:VEVENT
DTSTART;TZID=UTC:20201107T081500
DTEND;TZID=UTC:20201107T170000
DTSTAMP:20260424T053253
CREATED:20201029T160450Z
LAST-MODIFIED:20201029T160450Z
UID:1755-1604736900-1604768400@worksmartsafety.com
SUMMARY:Working At Heights Construction
DESCRIPTION:
URL:https://worksmartsafety.com/event/working-at-heights-construction-35/
END:VEVENT
END:VCALENDAR